BEGIN:VCALENDAR
VERSION:2.0
PRODID:-//eventon.com NONSGML v1.0//EN
CALSCALE:GREGORIAN
METHOD:PUBLISH
BEGIN:VEVENT
UID:69e752322e5b6
DTSTAMP:20260421T103218Z
DTSTART:20251119T190000Z
DTEND:20251119T200000Z
LOCATION:The Literary Hideaway 8166 Macomb St.\,  Grosse Ile\,  MI 48138
SUMMARY:Author Event - The Maggie Letters by Dr. Felix Rogers
DESCRIPTION:Join us for Afternoon Tea featuring The Maggie Letters by Dr. F
 elix Rogers\,  a cozy and reflective event at The Literary Hideaway on Wedn
 esday\,  November 19 at 2:00 PM. Local cardiologist Dr. Rogers will share t
 he inspiration behind his book\,  a heartfelt exploration of memory from ev
 eryday forgetfulness to Alzheimer’s[..]\nhttps://theliteraryhideaway.com/
 events/author-event-the-maggie-letters-by-dr-felix-rogers/
URL:https://theliteraryhideaway.com/events/author-event-the-maggie-letters-by-dr-felix-rogers/
END:VEVENT
END:VCALENDAR